BEGIN:VCALENDAR
VERSION:2.0
PRODID:-//Presidio Historical Association - ECPv5.2.1//NONSGML v1.0//EN
CALSCALE:GREGORIAN
METHOD:PUBLISH
X-WR-CALNAME:Presidio Historical Association
X-ORIGINAL-URL:https://presidioassociation.org
X-WR-CALDESC:Events for Presidio Historical Association
BEGIN:VTIMEZONE
TZID:UTC
BEGIN:STANDARD
TZOFFSETFROM:+0000
TZOFFSETTO:+0000
TZNAME:UTC
DTSTART:20260101T000000
END:STANDARD
END:VTIMEZONE
BEGIN:VEVENT
DTSTART;TZID=UTC:20260221T110000
DTEND;TZID=UTC:20260221T123000
DTSTAMP:20260421T100649
CREATED:20260131T174050Z
LAST-MODIFIED:20260131T174050Z
UID:1211-1771671600-1771677000@presidioassociation.org
SUMMARY:February 21 Tour Of The NPS Presidio Archives
DESCRIPTION:Join us February 21 at 11AM for an exclusive tour of the Presidio Archives. \n 
URL:https://presidioassociation.org/event/february-21-tour-of-the-nps-presidio-archives
END:VEVENT
END:VCALENDAR