BEGIN:VCALENDAR
VERSION:2.0
PRODID:-//Presidio Historical Association - ECPv5.2.1//NONSGML v1.0//EN
CALSCALE:GREGORIAN
METHOD:PUBLISH
X-WR-CALNAME:Presidio Historical Association
X-ORIGINAL-URL:https://presidioassociation.org
X-WR-CALDESC:Events for Presidio Historical Association
BEGIN:VTIMEZONE
TZID:UTC
BEGIN:STANDARD
TZOFFSETFROM:+0000
TZOFFSETTO:+0000
TZNAME:UTC
DTSTART:20260101T000000
END:STANDARD
END:VTIMEZONE
BEGIN:VEVENT
DTSTART;TZID=UTC:20260121T130000
DTEND;TZID=UTC:20260121T143000
DTSTAMP:20260419T171524
CREATED:20260131T173800Z
LAST-MODIFIED:20260131T173800Z
UID:1208-1769000400-1769005800@presidioassociation.org
SUMMARY:Interfaith Chapel Open House | Murals & Stained Glass Windows Talk
DESCRIPTION:Join us January 21 for this open house lecture in partnership with the Interfaith Chapel in the Presidio.
URL:https://presidioassociation.org/event/interfaith-chapel-open-house-murals-stained-glass-windows-talk
END:VEVENT
END:VCALENDAR