BEGIN:VCALENDAR
VERSION:2.0
PRODID:-//Presidio Historical Association - ECPv5.2.1//NONSGML v1.0//EN
CALSCALE:GREGORIAN
METHOD:PUBLISH
X-WR-CALNAME:Presidio Historical Association
X-ORIGINAL-URL:https://presidioassociation.org
X-WR-CALDESC:Events for Presidio Historical Association
BEGIN:VTIMEZONE
TZID:UTC
BEGIN:STANDARD
TZOFFSETFROM:+0000
TZOFFSETTO:+0000
TZNAME:UTC
DTSTART:20250101T000000
END:STANDARD
END:VTIMEZONE
BEGIN:VEVENT
DTSTART;TZID=UTC:20251212T113000
DTEND;TZID=UTC:20251212T133000
DTSTAMP:20260419T171008
CREATED:20251201T190035Z
LAST-MODIFIED:20251201T190035Z
UID:1195-1765539000-1765546200@presidioassociation.org
SUMMARY:PHA Annual Holiday Gathering
DESCRIPTION:Come join us at the PHA Annual Holiday Gathering for a festive cap off of the year and celebration of our year past and learn about what’s ahead for PHA. \nRegister Here: https://www.eventbrite.com/e/pha-annual-holiday-gathering-tickets-1972096944047?aff=oddtdtcreator
URL:https://presidioassociation.org/event/pha-annual-holiday-gathering
LOCATION:MIS Building 640\, 640 Old Mason St\, San Francisco\, CA\, 94123\, United States
END:VEVENT
END:VCALENDAR